BEGIN:VCALENDAR
VERSION:2.0
PRODID:-//AlphaMega Stadium - ECPv6.15.20//NONSGML v1.0//EN
CALSCALE:GREGORIAN
METHOD:PUBLISH
X-WR-CALNAME:AlphaMega Stadium
X-ORIGINAL-URL:https://thealphamegastadium.com
X-WR-CALDESC:Events for AlphaMega Stadium
REFRESH-INTERVAL;VALUE=DURATION:PT1H
X-Robots-Tag:noindex
X-PUBLISHED-TTL:PT1H
BEGIN:VTIMEZONE
TZID:UTC
BEGIN:STANDARD
TZOFFSETFROM:+0000
TZOFFSETTO:+0000
TZNAME:UTC
DTSTART:20250101T000000
END:STANDARD
END:VTIMEZONE
BEGIN:VEVENT
DTSTART;TZID=UTC:20260417T190000
DTEND;TZID=UTC:20260417T210000
DTSTAMP:20260420T052124
CREATED:20260414T100541Z
LAST-MODIFIED:20260414T100541Z
UID:1591-1776452400-1776459600@thealphamegastadium.com
SUMMARY:ΑΕΛ vs Ε.Ν.Π.
DESCRIPTION:Click here to buy tickets
URL:https://thealphamegastadium.com/event/%ce%b1%ce%b5%ce%bb-vs-%ce%b5-%ce%bd-%cf%80/
LOCATION:Alphamega Stadium
ATTACH;FMTTYPE=image/jpeg:https://thealphamegastadium.com/wp-content/uploads/2025/11/ΑΕΛ-ΕΝΥ-07.11.25.jpg
END:VEVENT
END:VCALENDAR