BEGIN:VCALENDAR
VERSION:2.0
PRODID:-//AlphaMega Stadium - ECPv6.15.20//NONSGML v1.0//EN
CALSCALE:GREGORIAN
METHOD:PUBLISH
X-WR-CALNAME:AlphaMega Stadium
X-ORIGINAL-URL:https://thealphamegastadium.com
X-WR-CALDESC:Events for AlphaMega Stadium
REFRESH-INTERVAL;VALUE=DURATION:PT1H
X-Robots-Tag:noindex
X-PUBLISHED-TTL:PT1H
BEGIN:VTIMEZONE
TZID:UTC
BEGIN:STANDARD
TZOFFSETFROM:+0000
TZOFFSETTO:+0000
TZNAME:UTC
DTSTART:20250101T000000
END:STANDARD
END:VTIMEZONE
BEGIN:VEVENT
DTSTART;TZID=UTC:20260408T190000
DTEND;TZID=UTC:20260408T210000
DTSTAMP:20260422T082004
CREATED:20260408T085442Z
LAST-MODIFIED:20260408T085442Z
UID:1586-1775674800-1775682000@thealphamegastadium.com
SUMMARY:ΑΕΛ vs ΠΑΦΟΣ FC
DESCRIPTION:Click here to buy tickets
URL:https://thealphamegastadium.com/event/%ce%b1%ce%b5%ce%bb-vs-%cf%80%ce%b1%cf%86%ce%bf%cf%83-fc/
LOCATION:Alphamega Stadium
ATTACH;FMTTYPE=image/jpeg:https://thealphamegastadium.com/wp-content/uploads/2024/09/ael-paphos-22.09.jpg
END:VEVENT
END:VCALENDAR