BEGIN:VCALENDAR
VERSION:2.0
PRODID:-//AlphaMega Stadium - ECPv6.15.20//NONSGML v1.0//EN
CALSCALE:GREGORIAN
METHOD:PUBLISH
X-WR-CALNAME:AlphaMega Stadium
X-ORIGINAL-URL:https://thealphamegastadium.com
X-WR-CALDESC:Events for AlphaMega Stadium
REFRESH-INTERVAL;VALUE=DURATION:PT1H
X-Robots-Tag:noindex
X-PUBLISHED-TTL:PT1H
BEGIN:VTIMEZONE
TZID:UTC
BEGIN:STANDARD
TZOFFSETFROM:+0000
TZOFFSETTO:+0000
TZNAME:UTC
DTSTART:20250101T000000
END:STANDARD
END:VTIMEZONE
BEGIN:VEVENT
DTSTART;TZID=UTC:20260422T190000
DTEND;TZID=UTC:20260422T210000
DTSTAMP:20260420T024120
CREATED:20260414T101023Z
LAST-MODIFIED:20260414T101023Z
UID:1595-1776884400-1776891600@thealphamegastadium.com
SUMMARY:ΑΠΟΛΛΩΝ vs ΑΠΟΕΛ
DESCRIPTION:Click here to buy tickets
URL:https://thealphamegastadium.com/event/%ce%b1%cf%80%ce%bf%ce%bb%ce%bb%cf%89%ce%bd-vs-%ce%b1%cf%80%ce%bf%ce%b5%ce%bb/
LOCATION:Alphamega Stadium
ATTACH;FMTTYPE=image/jpeg:https://thealphamegastadium.com/wp-content/uploads/2024/10/apollon-apoel.jpg
END:VEVENT
END:VCALENDAR