BEGIN:VCALENDAR
VERSION:2.0
PRODID:-//AlphaMega Stadium - ECPv6.15.20//NONSGML v1.0//EN
CALSCALE:GREGORIAN
METHOD:PUBLISH
X-WR-CALNAME:AlphaMega Stadium
X-ORIGINAL-URL:https://thealphamegastadium.com
X-WR-CALDESC:Events for AlphaMega Stadium
REFRESH-INTERVAL;VALUE=DURATION:PT1H
X-Robots-Tag:noindex
X-PUBLISHED-TTL:PT1H
BEGIN:VTIMEZONE
TZID:UTC
BEGIN:STANDARD
TZOFFSETFROM:+0000
TZOFFSETTO:+0000
TZNAME:UTC
DTSTART:20250101T000000
END:STANDARD
END:VTIMEZONE
BEGIN:VEVENT
DTSTART;TZID=UTC:20260321T170000
DTEND;TZID=UTC:20260321T190000
DTSTAMP:20260422T123937
CREATED:20260319T120722Z
LAST-MODIFIED:20260319T120722Z
UID:1573-1774112400-1774119600@thealphamegastadium.com
SUMMARY:ΑΡΗΣ ΛΕΜΕΣΟΥ vs ΟΜΟΝΟΙΑ
DESCRIPTION:Click here to buy tickets
URL:https://thealphamegastadium.com/event/%ce%b1%cf%81%ce%b7%cf%83-%ce%bb%ce%b5%ce%bc%ce%b5%cf%83%ce%bf%cf%85-vs-%ce%bf%ce%bc%ce%bf%ce%bd%ce%bf%ce%b9%ce%b1/
LOCATION:Alphamega Stadium
ATTACH;FMTTYPE=image/jpeg:https://thealphamegastadium.com/wp-content/uploads/2026/03/ΑΡΗΣ-ΟΜΟΝΟΙΑ-21.03.26.jpg
END:VEVENT
END:VCALENDAR