BEGIN:VCALENDAR
VERSION:2.0
PRODID:-//AlphaMega Stadium - ECPv6.15.20//NONSGML v1.0//EN
CALSCALE:GREGORIAN
METHOD:PUBLISH
X-WR-CALNAME:AlphaMega Stadium
X-ORIGINAL-URL:https://thealphamegastadium.com
X-WR-CALDESC:Events for AlphaMega Stadium
REFRESH-INTERVAL;VALUE=DURATION:PT1H
X-Robots-Tag:noindex
X-PUBLISHED-TTL:PT1H
BEGIN:VTIMEZONE
TZID:UTC
BEGIN:STANDARD
TZOFFSETFROM:+0000
TZOFFSETTO:+0000
TZNAME:UTC
DTSTART:20250101T000000
END:STANDARD
END:VTIMEZONE
BEGIN:VEVENT
DTSTART;TZID=UTC:20260418T190000
DTEND;TZID=UTC:20260418T210000
DTSTAMP:20260420T040355
CREATED:20260414T100833Z
LAST-MODIFIED:20260414T100833Z
UID:1593-1776538800-1776546000@thealphamegastadium.com
SUMMARY:ΑΡΗΣ vs ΑΠΟΛΛΩΝ
DESCRIPTION:Click here to buy tickets
URL:https://thealphamegastadium.com/event/%ce%b1%cf%81%ce%b7%cf%83-vs-%ce%b1%cf%80%ce%bf%ce%bb%ce%bb%cf%89%ce%bd/
LOCATION:Alphamega Stadium
ATTACH;FMTTYPE=image/jpeg:https://thealphamegastadium.com/wp-content/uploads/2025/08/ARIS-APOLLONAS-23.08.25.jpg
END:VEVENT
END:VCALENDAR